BEGIN:VCALENDAR
VERSION:2.0
PRODID:-//hacksw/handcal//NONSGML v1.0//EN
BEGIN:VEVENT
DTSTAMP:20230906T170000Z
DTSTART:20230906T170000Z
DTEND:20230906T190000Z
LOCATION:Kulturzentrum Hardtberg, Rochusstraße 276, Bonn, 53123 , Deutschland
SUMMARY:EAK Bonn - Jahresempfang 
END:VEVENT
END:VCALENDAR
