BEGIN:VCALENDAR
VERSION:2.0
PRODID:-//hacksw/handcal//NONSGML v1.0//EN
BEGIN:VEVENT
DTSTAMP:20230927T130000Z
DTSTART:20230927T130000Z
DTEND:20230927T130000Z
SUMMARY:Senioren Union Bonn - Exkursion Weinberghang Finkenberg mit Weinverkostung
END:VEVENT
END:VCALENDAR
