BEGIN:VCALENDAR
VERSION:2.0
PRODID:-//hacksw/handcal//NONSGML v1.0//EN
BEGIN:VEVENT
DTSTAMP:20241019T080000Z
DTSTART:20241019T080000Z
DTEND:20241019T080000Z
LOCATION:Klufterplatz, Bonn, 53175, Deutschland
SUMMARY:CDU OV Friesdorf - Infostand
END:VEVENT
END:VCALENDAR
