BEGIN:VCALENDAR
VERSION:2.0
PRODID:-//hacksw/handcal//NONSGML v1.0//EN
BEGIN:VEVENT
DTSTAMP:20240215T183000Z
DTSTART:20240215T183000Z
DTEND:20240215T183000Z
LOCATION:Großer Saal Ortsteilzentrum Brüser Berg, Fahrenheitstraße 49, Bonn, 53125, Deutschland
SUMMARY:Bonn 2030 - Forum Stadtplanung
END:VEVENT
END:VCALENDAR
