BEGIN:VCALENDAR
VERSION:2.0
PRODID:-//hacksw/handcal//NONSGML v1.0//EN
BEGIN:VEVENT
DTSTAMP:20260618T160000Z
DTSTART:20260618T160000Z
DTEND:20260618T160000Z
LOCATION:Haus der Evangelischen Kirche, Adenauer Allee, 37, Bonn, 53113, Deutschland
SUMMARY:EAK - Dialog mit der Gesellschaft für Christlich-jüdischen Zusammenarbeit 
END:VEVENT
END:VCALENDAR
