BEGIN:VCALENDAR
VERSION:2.0
PRODID:-//hacksw/handcal//NONSGML v1.0//EN
BEGIN:VEVENT
DTSTAMP:20201022T180000Z
DTSTART:20201022T180000Z
DTEND:20201022T180000Z
SUMMARY:Junge CDA - Online-Veranstaltung
END:VEVENT
END:VCALENDAR
